BEGIN:VCALENDAR
VERSION:2.0
PRODID:-// - ECPv5.9.1//NONSGML v1.0//EN
CALSCALE:GREGORIAN
METHOD:PUBLISH
X-ORIGINAL-URL:https://thebeertravelguide.com
X-WR-CALDESC:Events for 
BEGIN:VTIMEZONE
TZID:America/Los_Angeles
BEGIN:DAYLIGHT
TZOFFSETFROM:-0800
TZOFFSETTO:-0700
TZNAME:PDT
DTSTART:20190310T100000
END:DAYLIGHT
BEGIN:STANDARD
TZOFFSETFROM:-0700
TZOFFSETTO:-0800
TZNAME:PST
DTSTART:20191103T090000
END:STANDARD
END:VTIMEZONE
BEGIN:VEVENT
DTSTART;TZID=America/Los_Angeles:20190704T120000
DTEND;TZID=America/Los_Angeles:20190707T170000
DTSTAMP:20260423T191906
CREATED:20190405T051737Z
LAST-MODIFIED:20190424T053004Z
UID:2443-1562241600-1562518800@thebeertravelguide.com
SUMMARY:PORTLAND: 2019 PORTLAND CRAFT BEER FESTIVAL
DESCRIPTION:Celebrate Independence Day by drinking a wide variety of local Portland craft beers! \nFrom PCBF: “PCBF looks forward to our FIFTH celebration of Portland craft beer with a four day festival in 2019: Thursday July 4th\, Friday July 5th\, Saturday July 6th\, & Sunday July 7th. Tickets are available now through Bold Type Tickets. \nPortland\, Oregon continues to hold the title of The Best Beer City in the World (Travel and Leisure\, Matador\, and Beer Connoisseur). Portland now boasts over 70 craft breweries! \nPlan to attend our big outdoor party at the Fields Neighborhood Park to find the broadest selection of local beers\, ciders and wine\, originating from Portland\, Oregon breweries. Only beers\, plus ciders and wine\, crafted within the city limits of Portland are featured at the PCBF which makes it unique and different from other beer festivals. PCBF is held annually the first full weekend in July\, helping to kick off Oregon Craft Beer Month.” \nLogo courtesy of PCBF.
URL:https://thebeertravelguide.com/event/portland-2019-portland-craft-beer-festival/
LOCATION:The Fields Neighborhood Park\, 1099 NW Overton St\, Portland\, OR\, 97209\, United States
CATEGORIES:Oregon Beer Festival
ATTACH;FMTTYPE=image/jpeg:https://thebeertravelguide.com/wp-content/uploads/2019/04/portland-craft-beer-festival-logo.jpg
END:VEVENT
END:VCALENDAR