BEGIN:VCALENDAR
VERSION:2.0
PRODID:-// - ECPv5.9.1//NONSGML v1.0//EN
CALSCALE:GREGORIAN
METHOD:PUBLISH
X-ORIGINAL-URL:https://thebeertravelguide.com
X-WR-CALDESC:Events for 
BEGIN:VTIMEZONE
TZID:America/New_York
BEGIN:DAYLIGHT
TZOFFSETFROM:-0500
TZOFFSETTO:-0400
TZNAME:EDT
DTSTART:20190310T070000
END:DAYLIGHT
BEGIN:STANDARD
TZOFFSETFROM:-0400
TZOFFSETTO:-0500
TZNAME:EST
DTSTART:20191103T060000
END:STANDARD
END:VTIMEZONE
BEGIN:VEVENT
DTSTART;TZID=America/New_York:20190914T123000
DTEND;TZID=America/New_York:20190914T173000
DTSTAMP:20260423T132832
CREATED:20190904T172659Z
LAST-MODIFIED:20190904T172659Z
UID:3665-1568464200-1568482200@thebeertravelguide.com
SUMMARY:NEW YORK: HUDSON RIVER CRAFT BEER FESTIVAL
DESCRIPTION:Craft beer and scenic river views: what more could you want out of a New York beer festival? \nFrom Hudson River Craft Beer Festival: “Wine isn’t the only thing the Hudson Valley is known for! The 7th annual Hudson River Craft Beer Festival returns to Beacon this September for the biggest & best craft beer festival yet. Follow the river to Riverfront Park to sample over 180 craft beers from over 90 of America’s best craft breweries while enjoying live music\, local vendors and delicious food. There will be VIP and general admission sampling sessions available so you can sip the day away while enjoying the scenic Hudson River views!” \nLogo courtesy of America on Tap.
URL:https://thebeertravelguide.com/event/new-york-hudson-river-craft-beer-festival/
LOCATION:Riverfront Park\, 2 Red Flynn Drive\, Beacon\, NY\, 12508\, United States
CATEGORIES:New York Beer Festival
ATTACH;FMTTYPE=image/jpeg:https://thebeertravelguide.com/wp-content/uploads/2019/09/hudson-river-craft-beer-festival-logo.jpg
END:VEVENT
END:VCALENDAR