BEGIN:VCALENDAR
VERSION:2.0
PRODID:-// - ECPv5.9.1//NONSGML v1.0//EN
CALSCALE:GREGORIAN
METHOD:PUBLISH
X-ORIGINAL-URL:https://thebeertravelguide.com
X-WR-CALDESC:Events for 
BEGIN:VTIMEZONE
TZID:America/Los_Angeles
BEGIN:DAYLIGHT
TZOFFSETFROM:-0800
TZOFFSETTO:-0700
TZNAME:PDT
DTSTART:20180311T100000
END:DAYLIGHT
BEGIN:STANDARD
TZOFFSETFROM:-0700
TZOFFSETTO:-0800
TZNAME:PST
DTSTART:20181104T090000
END:STANDARD
END:VTIMEZONE
BEGIN:VEVENT
DTSTART;TZID=America/Los_Angeles:20181006T140000
DTEND;TZID=America/Los_Angeles:20181006T180000
DTSTAMP:20260424T000043
CREATED:20180904T174123Z
LAST-MODIFIED:20180904T174123Z
UID:823-1538834400-1538848800@thebeertravelguide.com
SUMMARY:LOS ANGELES: LA BEER FEST
DESCRIPTION:The biggest city on the West Coast throwing their biggest beer festival of the year. You don’t want to miss this in 2018. \nFrom LA Beer Fest: “80 Breweries\, 200 Beers\, and Food Trucks. The 10th annual LA Beer Festival follows last year’s sold out event\, and this year’s promises to be even better. The event will feature dozens of international and domestic beers\, over a dozen food trucks (food sold separately) as well as live bands\, Power 106 DJ\, and a dueling piano bar. The 2018 LA Beer Festival will take place at LA Center Studios Studios from 2pm to 6pm.” \nLogo courtesy of LA Beer Fest.
URL:https://thebeertravelguide.com/event/los-angeles-la-beer-fest/
LOCATION:Los Angeles Center Studios\, 450 South Bixel Street\, Los Angeles\, CA\, 90017\, United States
CATEGORIES:California Beer Festival
ATTACH;FMTTYPE=image/jpeg:https://thebeertravelguide.com/wp-content/uploads/2018/09/la-beer-fest-logo.jpg
END:VEVENT
END:VCALENDAR