BEGIN:VCALENDAR
VERSION:2.0
PRODID:-// - ECPv5.9.1//NONSGML v1.0//EN
CALSCALE:GREGORIAN
METHOD:PUBLISH
X-ORIGINAL-URL:https://thebeertravelguide.com
X-WR-CALDESC:Events for 
BEGIN:VTIMEZONE
TZID:America/Los_Angeles
BEGIN:DAYLIGHT
TZOFFSETFROM:-0800
TZOFFSETTO:-0700
TZNAME:PDT
DTSTART:20190310T100000
END:DAYLIGHT
BEGIN:STANDARD
TZOFFSETFROM:-0700
TZOFFSETTO:-0800
TZNAME:PST
DTSTART:20191103T090000
END:STANDARD
END:VTIMEZONE
BEGIN:VEVENT
DTSTART;TZID=America/Los_Angeles:20190615T130000
DTEND;TZID=America/Los_Angeles:20190615T160000
DTSTAMP:20260423T204628
CREATED:20190326T045104Z
LAST-MODIFIED:20190424T052744Z
UID:2373-1560603600-1560614400@thebeertravelguide.com
SUMMARY:LOS ANGELES: 11TH LA BEER WEEK KICKOFF FESTIVAL 2019
DESCRIPTION:LA Beer Week is approaching– and there’s no better start to it than a big festival downtown! \nFrom LA Beer Week: “The 11th Annual L.A. Beer Week is here! Join us for our big Kickoff Festival on Saturday\, June 15th at the Los Angeles Center Studios in the heart of Downtown L.A.! We are bringing the heat this summer with an awesome festival featuring 90 independent craft breweries\, live music\, great local food\, games\, and more! \nProduced by the Los Angeles County Brewers Guild\, #LABW11 will feature the largest number of Los Angeles County-based craft breweries — more than any other festival in town! We’ll also have some very special guest breweries! Join us and support your local brewers and the nonprofit organization that strives to foster craft beer culture in L.A. County. Admission includes a keepsake glass and unlimited tastes of over 250 beers from 90 breweries. This is surely a not-to-miss summer festival!”
URL:https://thebeertravelguide.com/event/los-angeles-11th-la-beer-week-kickoff-festival-2019/
LOCATION:Los Angeles Center Studios\, 450 South Bixel Street\, Los Angeles\, CA\, 90017\, United States
CATEGORIES:California Beer Festival
ATTACH;FMTTYPE=image/jpeg:https://thebeertravelguide.com/wp-content/uploads/2019/03/la-beer-week-kickoff-festival-logo.jpg
END:VEVENT
END:VCALENDAR