BEGIN:VCALENDAR
VERSION:2.0
PRODID:-// - ECPv5.9.1//NONSGML v1.0//EN
CALSCALE:GREGORIAN
METHOD:PUBLISH
X-ORIGINAL-URL:https://thebeertravelguide.com
X-WR-CALDESC:Events for 
BEGIN:VTIMEZONE
TZID:America/Chicago
BEGIN:DAYLIGHT
TZOFFSETFROM:-0600
TZOFFSETTO:-0500
TZNAME:CDT
DTSTART:20200308T080000
END:DAYLIGHT
BEGIN:STANDARD
TZOFFSETFROM:-0500
TZOFFSETTO:-0600
TZNAME:CST
DTSTART:20201101T070000
END:STANDARD
END:VTIMEZONE
BEGIN:VEVENT
DTSTART;TZID=America/Chicago:20200327T180000
DTEND;TZID=America/Chicago:20200328T183000
DTSTAMP:20260418T144950
CREATED:20200310T035026Z
LAST-MODIFIED:20200310T035026Z
UID:4319-1585332000-1585420200@thebeertravelguide.com
SUMMARY:DALLAS: BIG TEXAS BEER FEST 2020
DESCRIPTION:Everything’s bigger in Texas! Come on down and enjoy Dallas’s original beer festival.  \nFrom Big Texas Beer Fest: “WELCOME TO THE\nBIG TEXAS BEER FEST! The Big Texas Beer Fest is Dallas’ original beer festival. The 2020 event is the 9th annual. As far as we know\, we’re the first craft beer festival in Texas! Big Texas Beer Fest takes place over a *2* day period on March 27-28. The event takes place at the Fair Park Automobile Building. Last year’s festival featured 100+ breweries and 500+ beers. We expect similar numbers for this year’s event. \nBTBF is well-known as the festival to go to for exclusive and rare beers\, one-offs and special firkins. Since brewers never know when beers will be ready\, we always release the beer list about 1 week before the event. Grab your tickets now\, as they have always sold out in advance.” \nLogo courtesy of Big Texas Beer Fest.
URL:https://thebeertravelguide.com/event/dallas-big-texas-beer-fest-2020/
LOCATION:Fair Park Automobile Building\, 1010 1st Ave\, Dallas\, TX\, 75210\, United States
CATEGORIES:Texas Beer Festival
ATTACH;FMTTYPE=image/jpeg:https://thebeertravelguide.com/wp-content/uploads/2020/03/big-texas-beer-fest-logo.jpg
END:VEVENT
END:VCALENDAR